BEGIN:VCALENDAR
VERSION:2.0
PRODID:-//IATSE - ECPv6.3.5//NONSGML v1.0//EN
CALSCALE:GREGORIAN
METHOD:PUBLISH
X-ORIGINAL-URL:https://iatse.net/fr
X-WR-CALDESC:Événements pour IATSE
REFRESH-INTERVAL;VALUE=DURATION:PT1H
X-Robots-Tag:noindex
X-PUBLISHED-TTL:PT1H
BEGIN:VTIMEZONE
TZID:America/Whitehorse
BEGIN:STANDARD
TZOFFSETFROM:-0700
TZOFFSETTO:-0700
TZNAME:MST
DTSTART:20240101T000000
END:STANDARD
TZID:America/New_York
BEGIN:DAYLIGHT
TZOFFSETFROM:-0500
TZOFFSETTO:-0400
TZNAME:EDT
DTSTART:20240310T070000
END:DAYLIGHT
BEGIN:STANDARD
TZOFFSETFROM:-0400
TZOFFSETTO:-0500
TZNAME:EST
DTSTART:20241103T060000
END:STANDARD
END:VTIMEZONE
BEGIN:VEVENT
DTSTART;TZID=America/Whitehorse:20240722T090000
DTEND;TZID=America/Whitehorse:20240726T170000
DTSTAMP:20260422T021716
CREATED:20240223T150413Z
LAST-MODIFIED:20240325T164958Z
UID:16481-1721638800-1722013200@iatse.net
SUMMARY:2024 Mid-Summer Meeting of the General Executive Board (GEB)
DESCRIPTION:This is to advise that the regular Mid-Summer Meeting of the General Executive Board is scheduled to be held at The Westin Calgary Downtown\, 320 4th Ave SW\, Calgary\, AB T2P 2S6\, Canada at 9:00 a.m. (MDT) on Monday\, July 22\, 2024 and will remain in session through and including Friday\, July 26\, 2024. All business to come before the Board must be submitted to the General Office no later than fifteen (15) days prior to the meeting. \nThe guest room rate for the IATSE is from $229 CAD\, plus applicable taxes\, for both single and double occupancy. Hotel reservations should be made by contacting The Westin Calgary Downtown directly by calling 1-888-627-8417 or by clicking the link below: \nBook Your Group Rate | The Westin Calgary Downtown \nIf you are calling the hotel\, please identify your affiliation with IATSE in order to receive the preferred rate. The cutoff for reservations is Wednesday\, June 26\, 2024. \nThe Stage Caucus will be held at The Westin Calgary Downtown\, on Sunday\, July 21\, 2024\, at 10:00 a.m. (MDT) in the Lakeview Endrooms. Representatives of Stage\, Wardrobe and Mixed Locals are welcome. \nProof of a negative COVID-19 test taken within 12 hours will be required before attending\nyour first meeting whether that be the Stage Caucus or the Monday morning session.
URL:https://iatse.net/fr/event/2024-mid-summer-meeting-of-the-general-executive-board-geb/
LOCATION:The Westin Calgary Downtown\, 320 4th Ave SW\, Calgary\, Alberta\, AB T2P 2S6\, Canada
CATEGORIES:General Executive Board Meeting
ATTACH;FMTTYPE=image/jpeg:https://iatse.net/wp-content/uploads/2024/02/Calgary-scaled.jpg
END:VEVENT
BEGIN:VEVENT
DTSTART;TZID=America/New_York:20240722T190000
DTEND;TZID=America/New_York:20240722T203000
DTSTAMP:20260422T021716
CREATED:20240710T145606Z
LAST-MODIFIED:20240710T145606Z
UID:17267-1721674800-1721680200@iatse.net
SUMMARY:Bystander Intervention in the Entertainment Workplace
DESCRIPTION:Have you ever witnessed a co-worker being bullied or intimated? Would you like to know how to safely intervene? In just 90 minutes you will learn five easily accessible tools for use in any workplace. The webinar is free but advance registration at btshelp.org/bystander is required
URL:https://iatse.net/fr/event/bystander-intervention-in-the-entertainment-workplace/
LOCATION:Ontario
ATTACH;FMTTYPE=image/png:https://iatse.net/wp-content/uploads/2023/11/2021-08-01-EdDept-Behind-The-Scenes-BTS-Charity-Logo-Header-600-1.png
END:VEVENT
END:VCALENDAR