BEGIN:VCALENDAR
VERSION:2.0
PRODID:-//IATSE - ECPv6.3.5//NONSGML v1.0//EN
CALSCALE:GREGORIAN
METHOD:PUBLISH
X-WR-CALNAME:IATSE
X-ORIGINAL-URL:https://iatse.net/fr
X-WR-CALDESC:Événements pour IATSE
REFRESH-INTERVAL;VALUE=DURATION:PT1H
X-Robots-Tag:noindex
X-PUBLISHED-TTL:PT1H
BEGIN:VTIMEZONE
TZID:America/Chicago
BEGIN:DAYLIGHT
TZOFFSETFROM:-0600
TZOFFSETTO:-0500
TZNAME:CDT
DTSTART:20240310T080000
END:DAYLIGHT
BEGIN:STANDARD
TZOFFSETFROM:-0500
TZOFFSETTO:-0600
TZNAME:CST
DTSTART:20241103T070000
END:STANDARD
TZID:America/New_York
BEGIN:DAYLIGHT
TZOFFSETFROM:-0500
TZOFFSETTO:-0400
TZNAME:EDT
DTSTART:20240310T070000
END:DAYLIGHT
BEGIN:STANDARD
TZOFFSETFROM:-0400
TZOFFSETTO:-0500
TZNAME:EST
DTSTART:20241103T060000
END:STANDARD
END:VTIMEZONE
BEGIN:VEVENT
DTSTART;TZID=America/Chicago:20240122T090000
DTEND;TZID=America/Chicago:20240126T170000
DTSTAMP:20260421T145653
CREATED:20230928T164604Z
LAST-MODIFIED:20230928T173555Z
UID:14888-1705914000-1706288400@iatse.net
SUMMARY:2024 Mid-Winter Meeting of the General Executive Board (GEB)
DESCRIPTION:This is to advise that the regular Mid-Winter Meeting of the General Executive Board is scheduled to be held at the Sheraton Grand Nashville Downtown\, 623 Union Street\, Nashville\, TN 37219 at 9:00 a.m. on Monday\, January 22\, 2024 and will remain in session through and including Friday\, January 26\, 2024. \nAll business to come before the Board must be submitted to the General Office no later than fifteen (15) days prior to the meeting. Local Union representatives planning to attend the meeting must make hotel reservations with Sheraton Grand Nashville Downtown by calling 1-615-259-2000. Guest room rate for the IATSE is $229\, plus applicable taxes\, for both single and double occupancy. \nBook Your Group Rate | Sheraton Grand Nashville Downtown \nIn order to ensure that you receive the preferred room rate established for our meeting\, you must identify your affiliation with the IATSE. \nThe cutoff for reservations is Friday\, December 29\, 2023.
URL:https://iatse.net/fr/event/2024-mid-winter-meeting-of-the-general-executive-board-geb/
LOCATION:Sheraton Grand Nashville Downtown\, 623 Union Street\, Nashville\, TN 37219\, Nashville\, TN\, 37219\, United States
CATEGORIES:General Executive Board Meeting
ATTACH;FMTTYPE=image/png:https://iatse.net/wp-content/uploads/2023/09/Nashville.png
END:VEVENT
BEGIN:VEVENT
DTSTART;TZID=America/New_York:20240125T110000
DTEND;TZID=America/New_York:20240125T110000
DTSTAMP:20260421T145653
CREATED:20240105T172749Z
LAST-MODIFIED:20240105T172749Z
UID:16011-1706180400-1706180400@iatse.net
SUMMARY:Mental Health First Aid
DESCRIPTION:Join the 1200 entertainment industry professionals who are making a real difference in their workplaces by becoming a certified Mental Health First Aider. Register at btshelp.org/mhfa.
URL:https://iatse.net/fr/event/mental-health-first-aid-2/
LOCATION:Ontario
CATEGORIES:Education Event
END:VEVENT
END:VCALENDAR