BEGIN:VCALENDAR
VERSION:2.0
PRODID:-//IATSE - ECPv6.3.5//NONSGML v1.0//EN
CALSCALE:GREGORIAN
METHOD:PUBLISH
X-ORIGINAL-URL:https://iatse.net/fr
X-WR-CALDESC:Événements pour IATSE
REFRESH-INTERVAL;VALUE=DURATION:PT1H
X-Robots-Tag:noindex
X-PUBLISHED-TTL:PT1H
BEGIN:VTIMEZONE
TZID:America/New_York
BEGIN:DAYLIGHT
TZOFFSETFROM:-0500
TZOFFSETTO:-0400
TZNAME:EDT
DTSTART:20240310T070000
END:DAYLIGHT
BEGIN:STANDARD
TZOFFSETFROM:-0400
TZOFFSETTO:-0500
TZNAME:EST
DTSTART:20241103T060000
END:STANDARD
END:VTIMEZONE
BEGIN:VEVENT
DTSTART;TZID=America/New_York:20240121T120000
DTEND;TZID=America/New_York:20240121T180000
DTSTAMP:20260421T085006
CREATED:20240105T172511Z
LAST-MODIFIED:20240105T172528Z
UID:16008-1705838400-1705860000@iatse.net
SUMMARY:Mental Health First Aid
DESCRIPTION:Join the 1200 entertainment industry professionals who are making a real difference in their workplaces by becoming a certified Mental Health First Aider. Register at btshelp.org/mhfa.
URL:https://iatse.net/fr/event/mental-health-first-aid/
LOCATION:Ontario
CATEGORIES:Education Event
END:VEVENT
END:VCALENDAR