BEGIN:VCALENDAR
VERSION:2.0
PRODID:-//IATSE - ECPv6.3.5//NONSGML v1.0//EN
CALSCALE:GREGORIAN
METHOD:PUBLISH
X-WR-CALNAME:IATSE
X-ORIGINAL-URL:https://iatse.net/fr
X-WR-CALDESC:Événements pour IATSE
REFRESH-INTERVAL;VALUE=DURATION:PT1H
X-Robots-Tag:noindex
X-PUBLISHED-TTL:PT1H
BEGIN:VTIMEZONE
TZID:America/New_York
BEGIN:DAYLIGHT
TZOFFSETFROM:-0500
TZOFFSETTO:-0400
TZNAME:EDT
DTSTART:20230312T070000
END:DAYLIGHT
BEGIN:STANDARD
TZOFFSETFROM:-0400
TZOFFSETTO:-0500
TZNAME:EST
DTSTART:20231105T060000
END:STANDARD
END:VTIMEZONE
BEGIN:VEVENT
DTSTART;TZID=America/New_York:20230716T160000
DTEND;TZID=America/New_York:20230716T173000
DTSTAMP:20260420T053450
CREATED:20230712T193018Z
LAST-MODIFIED:20230712T193805Z
UID:14210-1689523200-1689528600@iatse.net
SUMMARY:VFX Unionization Campaign Open Forum
DESCRIPTION:VFX Workers! Come out and hear from workers like yourselves about what we’re doing to win our union this year\, ask questions\, and learn how you can get involved right away. \nThis will be an opportunity to discuss with IATSE organizers and VFX workers the structural challenges we face in our workplace\, and how we can use the rights we have to win a voice on the job. To see what that might look like\, check out this piece in Deadline on the work that IATSE has been doing to set standards around AI for entertainment workers. \nPlease click here to register for this open forum.
URL:https://iatse.net/fr/event/vfx-unionization-campaign-open-forum/
LOCATION:Zoom
ATTACH;FMTTYPE=image/png:https://iatse.net/wp-content/uploads/2023/07/2023-07-12-VFX-Union-Graphic-for-website.png
END:VEVENT
END:VCALENDAR