BEGIN:VCALENDAR
VERSION:2.0
PRODID:-//IATSE - ECPv6.3.5//NONSGML v1.0//EN
CALSCALE:GREGORIAN
METHOD:PUBLISH
X-WR-CALNAME:IATSE
X-ORIGINAL-URL:https://iatse.net/fr
X-WR-CALDESC:Événements pour IATSE
REFRESH-INTERVAL;VALUE=DURATION:PT1H
X-Robots-Tag:noindex
X-PUBLISHED-TTL:PT1H
BEGIN:VTIMEZONE
TZID:America/New_York
BEGIN:DAYLIGHT
TZOFFSETFROM:-0500
TZOFFSETTO:-0400
TZNAME:EDT
DTSTART:20230312T070000
END:DAYLIGHT
BEGIN:STANDARD
TZOFFSETFROM:-0400
TZOFFSETTO:-0500
TZNAME:EST
DTSTART:20231105T060000
END:STANDARD
END:VTIMEZONE
BEGIN:VEVENT
DTSTART;TZID=America/New_York:20230104T080000
DTEND;TZID=America/New_York:20230104T170000
DTSTAMP:20260419T130224
CREATED:20230104T182403Z
LAST-MODIFIED:20230104T182403Z
UID:12149-1672819200-1672851600@iatse.net
SUMMARY:Strategic Planning
DESCRIPTION:
URL:https://iatse.net/fr/event/strategic-planning-2/
LOCATION:Ontario
ATTACH;FMTTYPE=image/png:https://iatse.net/wp-content/uploads/2021/08/2021-08-03-EdDept-hands-up-officer-leadership-class.png
END:VEVENT
END:VCALENDAR