BEGIN:VCALENDAR
VERSION:2.0
PRODID:-//IATSE - ECPv6.3.5//NONSGML v1.0//EN
CALSCALE:GREGORIAN
METHOD:PUBLISH
X-ORIGINAL-URL:https://iatse.net/fr
X-WR-CALDESC:Événements pour IATSE
REFRESH-INTERVAL;VALUE=DURATION:PT1H
X-Robots-Tag:noindex
X-PUBLISHED-TTL:PT1H
BEGIN:VTIMEZONE
TZID:America/New_York
BEGIN:DAYLIGHT
TZOFFSETFROM:-0500
TZOFFSETTO:-0400
TZNAME:EDT
DTSTART:20220313T070000
END:DAYLIGHT
BEGIN:STANDARD
TZOFFSETFROM:-0400
TZOFFSETTO:-0500
TZNAME:EST
DTSTART:20221106T060000
END:STANDARD
END:VTIMEZONE
BEGIN:VEVENT
DTSTART;VALUE=DATE:20221202
DTEND;VALUE=DATE:20221205
DTSTAMP:20260419T143059
CREATED:20220706T163256Z
LAST-MODIFIED:20221007T170520Z
UID:10379-1669939200-1670198399@iatse.net
SUMMARY:Officer Institute 2.0 Secretary-Treasurer Training
DESCRIPTION:PRE-REQUISITE: You must currently hold office in your Local Union as Secretary or Treasurer or (regardless of office) be a graduate of a prior IATSE Officer Institute. \nThis training offers advanced work in issues of Financial Record Keeping\, IATSE procedures\, Fiduciary Responsibility\, Fraud Prevention\, Taking Minutes\, and more. Content will be tailored for both Canadian and U.S. local leaders who have graduated from the IATSE Officer Institute and/or currently hold office as Secretaries and Treasurers in their local unions. \nDecember 2 – 4\, 2022 – Los Angeles\, CA – FOR U.S. AND CANADIAN LOCALS \nClick here for the application.
URL:https://iatse.net/fr/event/10379/
LOCATION:Ontario
CATEGORIES:Education Event
ATTACH;FMTTYPE=image/jpeg:https://iatse.net/wp-content/uploads/2021/12/IMG_2281-scaled.jpg
END:VEVENT
END:VCALENDAR