BEGIN:VCALENDAR
VERSION:2.0
PRODID:-//IATSE - ECPv6.3.5//NONSGML v1.0//EN
CALSCALE:GREGORIAN
METHOD:PUBLISH
X-ORIGINAL-URL:https://iatse.net/fr
X-WR-CALDESC:Événements pour IATSE
REFRESH-INTERVAL;VALUE=DURATION:PT1H
X-Robots-Tag:noindex
X-PUBLISHED-TTL:PT1H
BEGIN:VTIMEZONE
TZID:America/New_York
BEGIN:DAYLIGHT
TZOFFSETFROM:-0500
TZOFFSETTO:-0400
TZNAME:EDT
DTSTART:20220313T070000
END:DAYLIGHT
BEGIN:STANDARD
TZOFFSETFROM:-0400
TZOFFSETTO:-0500
TZNAME:EST
DTSTART:20221106T060000
END:STANDARD
END:VTIMEZONE
BEGIN:VEVENT
DTSTART;VALUE=DATE:20221017
DTEND;VALUE=DATE:20221022
DTSTAMP:20260419T130504
CREATED:20220608T191121Z
LAST-MODIFIED:20221007T170424Z
UID:10052-1665964800-1666396799@iatse.net
SUMMARY:Officer Institute 1.0
DESCRIPTION:The IATSE Officer Institute is a five-day\, intensive certification program that will be delivered in multiple cities. The week’s courses range from Labor Law and Collective Bargaining to Union Finance\, to managing day-to-day challenges and dealing with conflict. Instructors are experts in their fields and classes will provide hands-on\, practical tools to be brought back to the local. Officers will earn a certificate and must attend all classes to graduate. \nUPCOMING TRAININGS: \nOctober 17-21\, 2022 – Cleveland\, Ohio – FOR U.S. AND CANADIAN LOCALS \nClick here for the application. \nHOW TO APPLY: \nFill out the application form that corresponds with the Officer Institute you wish to attend and return the completed application via email to officerinstitute@iatse.net or by mail to: \nIATSE Officer Institute\n207 West 25th Street\nFourth Floor\nNew York\, NY 10001
URL:https://iatse.net/fr/event/officer-institute-1-0/
LOCATION:Ontario
CATEGORIES:Education Event
ATTACH;FMTTYPE=image/jpeg:https://iatse.net/wp-content/uploads/2021/06/working-at-Officer-Institute-1.0-scaled-1-1.jpg
END:VEVENT
BEGIN:VEVENT
DTSTART;TZID=America/New_York:20221017T190000
DTEND;TZID=America/New_York:20221017T200000
DTSTAMP:20260419T130504
CREATED:20221007T170303Z
LAST-MODIFIED:20221007T170303Z
UID:11363-1666033200-1666036800@iatse.net
SUMMARY:Substance Abuse in the Entertainment Industry Webinar
DESCRIPTION:You are not alone. Learn more about dealing with substance abuse in the entertainment industry. Knowing where to turn\, being prepared – can save lives. Register at https://etclink.it/DhHMfGPY
URL:https://iatse.net/fr/event/substance-abuse-in-the-entertainment-industry-webinar/
LOCATION:Ontario
CATEGORIES:Education Event
ATTACH;FMTTYPE=image/png:https://iatse.net/wp-content/uploads/2022/10/FeZB6j8VUAEPHqx.png
END:VEVENT
END:VCALENDAR