BEGIN:VCALENDAR
VERSION:2.0
PRODID:-//IATSE - ECPv5.16.3.1//NONSGML v1.0//EN
CALSCALE:GREGORIAN
METHOD:PUBLISH
X-ORIGINAL-URL:https://iatse.net
X-WR-CALDESC:Events for IATSE
REFRESH-INTERVAL;VALUE=DURATION:PT1H
X-Robots-Tag:noindex
X-PUBLISHED-TTL:PT1H
BEGIN:VTIMEZONE
TZID:America/New_York
BEGIN:DAYLIGHT
TZOFFSETFROM:-0500
TZOFFSETTO:-0400
TZNAME:EDT
DTSTART:20230312T070000
END:DAYLIGHT
BEGIN:STANDARD
TZOFFSETFROM:-0400
TZOFFSETTO:-0500
TZNAME:EST
DTSTART:20231105T060000
END:STANDARD
END:VTIMEZONE
BEGIN:VEVENT
DTSTART;VALUE=DATE:20230213
DTEND;VALUE=DATE:20230218
DTSTAMP:20240229T192114
CREATED:20221201T161253Z
LAST-MODIFIED:20230117T204747Z
UID:11795-1676246400-1676678399@iatse.net
SUMMARY:SOLD OUT Officer Institute 1.0
DESCRIPTION:February 13 – 17\, 2023 – San Diego\, CA – FOR U.S. AND CANADIAN LOCALS \nThe IATSE Officer Institute is a five-day\, intensive certification program that will be delivered in multiple cities. The week’s courses range from Labor Law and Collective Bargaining to Union Finance\, to managing day-to-day challenges and dealing with conflict. Instructors are experts in their fields and classes will provide hands-on\, practical tools to be brought back to the local. Officers will earn a certificate and must attend all classes to graduate. \nHOW TO APPLY: \nFill out the application form that corresponds with the Officer Institute you wish to attend and return the completed application via email to officerinstitute@iatse.net or by mail to: \nIATSE Officer Institute\n207 West 25th Street\nFourth Floor\nNew York\, NY 10001 \nFINANCIAL SUBSIDY PROGRAM \nFor Local unions with smaller treasuries\, the International has a subsidy program to make attendance feasible. Local Unions are also encouraged to contact their District Secretaries\, as many IATSE Districts are also offering financial assistance to students at the Officer Institute. \nThrough this program\, costs of the Officer Institute are split: Local Unions are responsible for transportation\, hotels (unless a subsidy application has been awarded)\, and per diem\, and the International Union will pay for the program and instructors. \nRules of the Subsidy Program are as follows: \n\nSubsidies are only available for the Officer Institute 1.0\, not the Advanced 2.0.\nLocal Unions who submit a Form LM-4 or LM-3 (or\, in the case of Canadian locals\, those with gross yearly receipts totaling less than $250\,000) are eligible for a hotel subsidy for the Officer Institute. (The application form asks subsidy applicants to confirm their local falls within this category.)\nOnce awarded\, the subsidy will pay for up to five nights lodging at the designated IATSE hotel\, and will be paid directly to the hotel. No funds will be paid directly to the student or the local union. Subsidy recipients must stay at the designated IATSE hotel.\nTen (10) individual subsidies will be available for each session of the Officer Institute\, and will be awarded subject to eligibility and on a first come\, first served basis to qualifying local union leaders. Each qualifying local union may receive subsidies for no more than two officers in a calendar year.\nSubsidy applications must be received at least six (6) weeks prior to the first day of the applicable Officer Institute session.\nTransportation\, meals\, and incidentals are the responsibility of the local union and/or the individual students.\nThe subsidy request form should be submitted together with an officer’s regular application to the IATSE Officer Institute. Both forms must be signed by an authorized representative of the Local’s Executive BoardDownload subsidy application\n\n 
URL:https://iatse.net/event/officer-institute-1-0-2/
LOCATION:Alberta
CATEGORIES:Education Event
ATTACH;FMTTYPE=image/png:https://iatse.net/wp-content/uploads/2022/12/Screen-Shot-2022-12-01-at-11.09.34-AM.png
END:VEVENT
BEGIN:VEVENT
DTSTART;VALUE=DATE:20230223
DTEND;VALUE=DATE:20230303
DTSTAMP:20240229T192114
CREATED:20230104T181311Z
LAST-MODIFIED:20230111T174238Z
UID:12143-1677110400-1677801599@iatse.net
SUMMARY:Foundations of Union Leadership
DESCRIPTION:
URL:https://iatse.net/event/foundations-of-union-leadership/
LOCATION:Alberta
CATEGORIES:Education Event
ATTACH;FMTTYPE=image/png:https://iatse.net/wp-content/uploads/2021/07/Webinars-for-Leaders.png
END:VEVENT
END:VCALENDAR