BEGIN:VCALENDAR
VERSION:2.0
PRODID:-//IATSE - ECPv5.16.3.1//NONSGML v1.0//EN
CALSCALE:GREGORIAN
METHOD:PUBLISH
X-WR-CALNAME:IATSE
X-ORIGINAL-URL:https://iatse.net
X-WR-CALDESC:Events for IATSE
REFRESH-INTERVAL;VALUE=DURATION:PT1H
X-Robots-Tag:noindex
X-PUBLISHED-TTL:PT1H
BEGIN:VTIMEZONE
TZID:America/New_York
BEGIN:DAYLIGHT
TZOFFSETFROM:-0500
TZOFFSETTO:-0400
TZNAME:EDT
DTSTART:20220313T070000
END:DAYLIGHT
BEGIN:STANDARD
TZOFFSETFROM:-0400
TZOFFSETTO:-0500
TZNAME:EST
DTSTART:20221106T060000
END:STANDARD
END:VTIMEZONE
BEGIN:VEVENT
DTSTART;TZID=America/New_York:20220815T120000
DTEND;TZID=America/New_York:20220815T180000
DTSTAMP:20240229T192506
CREATED:20220718T193702Z
LAST-MODIFIED:20220718T195131Z
UID:10508-1660564800-1660586400@iatse.net
SUMMARY:Mental Health 1st Aid Training
DESCRIPTION:This is a skills-based training course that teaches you how to identify\, understand and respond to signs of mental illnesses and substance use disorders. The training gives you the skills you need to reach out and provide initial help and support to someone who may be developing a mental health or substance use problem\, or experiencing a crisis\, and help connect them to the appropriate care. \nRegister here \nMental Health First Aid is eligible for reimbursement from the IATSE Training Trust Fund. Click here to download the application.
URL:https://iatse.net/event/mental-health-1st-aid-training/
LOCATION:Alberta
ATTACH;FMTTYPE=image/png:https://iatse.net/wp-content/uploads/2021/12/mental-health-first-aid.png
END:VEVENT
BEGIN:VEVENT
DTSTART;TZID=America/New_York:20220816T110000
DTEND;TZID=America/New_York:20220816T170000
DTSTAMP:20240229T192506
CREATED:20220718T194233Z
LAST-MODIFIED:20220718T195217Z
UID:10510-1660647600-1660669200@iatse.net
SUMMARY:Mental Health 1st Aid Training
DESCRIPTION:This is a skills-based training course hosted by Behind The Scenes Charity that teaches you how to identify\, understand and respond to signs of mental illnesses and substance use disorders. The training gives you the skills you need to reach out and provide initial help and support to someone who may be developing a mental health or substance use problem\, or experiencing a crisis\, and help connect them to the appropriate care. \nRegister here \nMental Health First Aid is eligible for reimbursement from the IATSE Training Trust Fund. Click here to download the application.
URL:https://iatse.net/event/mental-health-1st-aid-training-2/
LOCATION:Alberta
ATTACH;FMTTYPE=image/png:https://iatse.net/wp-content/uploads/2021/12/mental-health-first-aid.png
END:VEVENT
BEGIN:VEVENT
DTSTART;TZID=America/New_York:20220817T130000
DTEND;TZID=America/New_York:20220817T143000
DTSTAMP:20240229T192506
CREATED:20220815T191529Z
LAST-MODIFIED:20220815T191529Z
UID:10630-1660741200-1660746600@iatse.net
SUMMARY:Ergonomics and Repetitive Stress Injuries Webinar
DESCRIPTION:Join Arlette Loeser MA\, OTR\, CIE\, Program Director\, Ergonomics and Injury Prevention\, Selikoff Centers for Occupational Health for an informative discussion of ergonomics in the workplace and how to prevent injuries. Topics include: – Understanding the connection between job performance and risk for injury – Learning how to perform a risk assessment for your own work – Knowing how to prevent work-related injuries. \nRegister here
URL:https://iatse.net/event/ergonomics-and-repetitive-stress-injuries-webinar/
LOCATION:Alberta
CATEGORIES:Education Event
END:VEVENT
BEGIN:VEVENT
DTSTART;TZID=America/New_York:20220821T110000
DTEND;TZID=America/New_York:20220821T170000
DTSTAMP:20240229T192506
CREATED:20220718T195108Z
LAST-MODIFIED:20220718T195237Z
UID:10513-1661079600-1661101200@iatse.net
SUMMARY:Mental Health 1st Aid Training
DESCRIPTION:This is a skills-based training course hosted by Behind The Scenes Charity that teaches you how to identify\, understand and respond to signs of mental illnesses and substance use disorders. The training gives you the skills you need to reach out and provide initial help and support to someone who may be developing a mental health or substance use problem\, or experiencing a crisis\, and help connect them to the appropriate care. \nRegister here \nMental Health First Aid is eligible for reimbursement from the IATSE Training Trust Fund. Click here to download the application.
URL:https://iatse.net/event/mental-health-1st-aid-training-3/
LOCATION:Alberta
ATTACH;FMTTYPE=image/png:https://iatse.net/wp-content/uploads/2021/12/mental-health-first-aid.png
END:VEVENT
END:VCALENDAR