BEGIN:VCALENDAR
VERSION:2.0
PRODID:-//IATSE - ECPv5.16.3.1//NONSGML v1.0//EN
CALSCALE:GREGORIAN
METHOD:PUBLISH
X-ORIGINAL-URL:https://iatse.net
X-WR-CALDESC:Events for IATSE
REFRESH-INTERVAL;VALUE=DURATION:PT1H
X-Robots-Tag:noindex
X-PUBLISHED-TTL:PT1H
BEGIN:VTIMEZONE
TZID:America/New_York
BEGIN:DAYLIGHT
TZOFFSETFROM:-0500
TZOFFSETTO:-0400
TZNAME:EDT
DTSTART:20220313T070000
END:DAYLIGHT
BEGIN:STANDARD
TZOFFSETFROM:-0400
TZOFFSETTO:-0500
TZNAME:EST
DTSTART:20221106T060000
END:STANDARD
END:VTIMEZONE
BEGIN:VEVENT
DTSTART;TZID=America/New_York:20220723T110000
DTEND;TZID=America/New_York:20220723T170000
DTSTAMP:20240229T192537
CREATED:20220711T190357Z
LAST-MODIFIED:20220714T201601Z
UID:10458-1658574000-1658595600@iatse.net
SUMMARY:Hollywood Young Workers Yard Sale
DESCRIPTION:Free food with proof of IA membership. Email 600laywg@gmail.com if interested in selling (sellers must be IA members).\nA representative from Contract Services will be present to speak with future members about roster placement
URL:https://iatse.net/event/hollywood-young-workers-yard-sale/
LOCATION:IATSE Local 80\, 2520 W Olive Ave\, Burbank\, California\, 91505
CATEGORIES:Young Workers Event
ATTACH;FMTTYPE=image/jpeg:https://iatse.net/wp-content/uploads/2022/07/HollywoodYoungWorkerYardSale.jpeg
END:VEVENT
BEGIN:VEVENT
DTSTART;VALUE=DATE:20220725
DTEND;VALUE=DATE:20220730
DTSTAMP:20240229T192537
CREATED:20220523T185857Z
LAST-MODIFIED:20220524T150627Z
UID:9964-1658707200-1659139199@iatse.net
SUMMARY:2022 Mid-Summer Meeting of the General Executive Board (GEB)
DESCRIPTION:This is to advise that the regular Mid-Summer Meeting of the General Executive Board is scheduled to be held at The Westin Seattle\, 1900 5th Avenue\, Seattle\, Washington\, 98101 at 10:00 a.m. on Monday\, July 25\, 2022\, and will remain in session through and including Friday\, July 29\, 2022. All business to come before the Board must be submitted to the General Office no later than fifteen (15) days prior to the meeting. \nWith this in mind\, we have contracted with the hotel for additional rooms and reservations are now open. The guest room rate for the IATSE is $253.00\, plus applicable taxes\, for both single and double occupancy. Hotel reservations should be made by contacting The Westin Seattle hotel directly by calling 206-728-1000 or by clicking the link below: \nBook Your Group Rate | Westin Seattle \nIf you are calling the hotel\, please identify your affiliation with IATSE in order to receive the preferred rate. \nCut-Off date for reservations: June 23\, 2022. 
URL:https://iatse.net/event/2022-mid-summer-meeting-of-the-general-executive-board-geb/
LOCATION:The Westin Seattle\, 1900 5th Avenue\, Seattle\, WA\, 98101\, United States
CATEGORIES:General Executive Board Meeting
ATTACH;FMTTYPE=image/jpeg:https://iatse.net/wp-content/uploads/2022/03/Seattle.jpg
END:VEVENT
END:VCALENDAR