BEGIN:VCALENDAR
VERSION:2.0
PRODID:-//IATSE - ECPv5.16.3.1//NONSGML v1.0//EN
CALSCALE:GREGORIAN
METHOD:PUBLISH
X-ORIGINAL-URL:https://iatse.net
X-WR-CALDESC:Events for IATSE
REFRESH-INTERVAL;VALUE=DURATION:PT1H
X-Robots-Tag:noindex
X-PUBLISHED-TTL:PT1H
BEGIN:VTIMEZONE
TZID:America/New_York
BEGIN:DAYLIGHT
TZOFFSETFROM:-0500
TZOFFSETTO:-0400
TZNAME:EDT
DTSTART:20220313T070000
END:DAYLIGHT
BEGIN:STANDARD
TZOFFSETFROM:-0400
TZOFFSETTO:-0500
TZNAME:EST
DTSTART:20221106T060000
END:STANDARD
END:VTIMEZONE
BEGIN:VEVENT
DTSTART;TZID=America/New_York:20220524T120000
DTEND;TZID=America/New_York:20220524T130000
DTSTAMP:20240229T192635
CREATED:20220523T194139Z
LAST-MODIFIED:20220523T194139Z
UID:9971-1653393600-1653397200@iatse.net
SUMMARY:WEBINAR: Mental Health and Suicide Prevention for the Entertainment Industry
DESCRIPTION:The Behind the Scenes Foundation has partnered with IATSE and other concerned organizations\, employers and individuals to launch a mental health and suicide prevention initiative for the entertainment industry. \nIn this hour-long workshop\, attendees are provided with an overview of tools and resources for mental and emotional wellbeing that are available to individuals seeking help for themselves and those who are seeking help for others. Resources and discussion topics are geared towards workers in the entertainment and ticketing Industries\, but all are welcome to attend. \nClick here to register for the webinar.
URL:https://iatse.net/event/webinar-mental-health-and-suicide-prevention-for-the-entertainment-industry/
LOCATION:Zoom
CATEGORIES:Education Event
ATTACH;FMTTYPE=image/png:https://iatse.net/wp-content/uploads/2022/05/Mental-Health-Webinar-e1653334407381.png
END:VEVENT
BEGIN:VEVENT
DTSTART;TZID=America/New_York:20220527T120000
DTEND;TZID=America/New_York:20220527T130000
DTSTAMP:20240229T192635
CREATED:20220523T194942Z
LAST-MODIFIED:20220523T195054Z
UID:9980-1653652800-1653656400@iatse.net
SUMMARY:Webinar Rebroadcast: Heat Illness Prevention for IATSE Workers
DESCRIPTION:Excessive heat and sun exposure are potential hazards to IATSE workers\, especially those who work outside during the summer months. Thankfully\, heat illness is preventable. Join us for a conversation with Dr. Florinda Piano\, Providence St. Joseph Medical Center\, to discuss how to stay safe working outside this summer. Topics will include how to prevent heat illness at work\, how sun exposure can lead to heat illness\, tips to prevent skin cancer\, and much more! \nClick here to register for the webinar rebroadcast.
URL:https://iatse.net/event/webinar-rebroadcast-heat-illness-prevention-for-iatse-workers/
LOCATION:Zoom
CATEGORIES:Education Event
ATTACH;FMTTYPE=image/png:https://iatse.net/wp-content/uploads/2022/05/Rebroadcast-Heat-Illness-Prevention-Flyer61-e1653334344431.png
END:VEVENT
END:VCALENDAR