BEGIN:VCALENDAR
VERSION:2.0
PRODID:-//IATSE - ECPv5.16.3.1//NONSGML v1.0//EN
CALSCALE:GREGORIAN
METHOD:PUBLISH
X-ORIGINAL-URL:https://iatse.net
X-WR-CALDESC:Events for IATSE
REFRESH-INTERVAL;VALUE=DURATION:PT1H
X-Robots-Tag:noindex
X-PUBLISHED-TTL:PT1H
BEGIN:VTIMEZONE
TZID:America/New_York
BEGIN:DAYLIGHT
TZOFFSETFROM:-0500
TZOFFSETTO:-0400
TZNAME:EDT
DTSTART:20220313T070000
END:DAYLIGHT
BEGIN:STANDARD
TZOFFSETFROM:-0400
TZOFFSETTO:-0500
TZNAME:EST
DTSTART:20221106T060000
END:STANDARD
END:VTIMEZONE
BEGIN:VEVENT
DTSTART;TZID=America/New_York:20220928T080000
DTEND;TZID=America/New_York:20220929T170000
DTSTAMP:20240229T192525
CREATED:20220706T163203Z
LAST-MODIFIED:20220706T163351Z
UID:10377-1664352000-1664470800@iatse.net
SUMMARY:Local Union Trustee Training
DESCRIPTION:Only IATSE Local Union Trustees may attend this two-day course designed specifically for IATSE Local Unions. The instructors are Certified Public Accountants and IATSE Staff\, and are experienced educators and experts in their field with considerable experience overseeing audits and investigations\, working with Labor Unions\, and assisting clients with system implementation and analysis. After sessions on Fraud Prevention\, the Role of the Trustee\, and Planning an Audit\, the class will conduct a mock audit. \nTrustees must attend the full two days of class to graduate and earn a certificate. \nOnly members who serve their local unions as Trustees responsible for periodically auditing their locals’ books and records are eligible for this training. There is no other prerequisite. This training is NOT applicable for Benefit Fund or Training Fund Trustees. \nSeptember 28 – 29\, 2022 – New York\, NY – FOR U.S. AND CANADIAN LOCALS \nClick here for the application.
URL:https://iatse.net/event/local-union-trustee-training/
CATEGORIES:Education Event
END:VEVENT
END:VCALENDAR